BEGIN:VCALENDAR
PRODID:-//github.com/rianjs/ical.net//NONSGML ical.net 4.0//EN
VERSION:2.0
BEGIN:VEVENT
DESCRIPTION:Eksamen norsk hovedmål vg3
DTEND:20230522T235959
DTSTAMP:20260425T164149Z
DTSTART;VALUE=DATE:20230522
SEQUENCE:0
SUMMARY:Eksamen norsk hovedmål vg3
UID:ee929b7e-c79a-45ad-9aec-6f36835741e8
END:VEVENT
END:VCALENDAR
