BEGIN:VCALENDAR
PRODID:-//github.com/rianjs/ical.net//NONSGML ical.net 4.0//EN
VERSION:2.0
BEGIN:VEVENT
DESCRIPTION:OD-dagen
DTEND:20201029T235959
DTSTAMP:20260424T092232Z
DTSTART;VALUE=DATE:20201029
SEQUENCE:0
SUMMARY:OD-dagen
UID:4105efe0-9e2f-4ee7-a0d1-ee716a56403b
END:VEVENT
END:VCALENDAR
